BEGIN:VCALENDAR
VERSION:2.0
PRODID:-//Westernport Quilters Inc. - ECPv6.15.16//NONSGML v1.0//EN
CALSCALE:GREGORIAN
METHOD:PUBLISH
X-WR-CALNAME:Westernport Quilters Inc.
X-ORIGINAL-URL:https://westernportquilters.org.au
X-WR-CALDESC:Events for Westernport Quilters Inc.
REFRESH-INTERVAL;VALUE=DURATION:PT1H
X-Robots-Tag:noindex
X-PUBLISHED-TTL:PT1H
BEGIN:VTIMEZONE
TZID:Australia/Melbourne
BEGIN:STANDARD
TZOFFSETFROM:+1100
TZOFFSETTO:+1000
TZNAME:AEST
DTSTART:20250405T160000
END:STANDARD
BEGIN:DAYLIGHT
TZOFFSETFROM:+1000
TZOFFSETTO:+1100
TZNAME:AEDT
DTSTART:20251004T160000
END:DAYLIGHT
BEGIN:STANDARD
TZOFFSETFROM:+1100
TZOFFSETTO:+1000
TZNAME:AEST
DTSTART:20260404T160000
END:STANDARD
BEGIN:DAYLIGHT
TZOFFSETFROM:+1000
TZOFFSETTO:+1100
TZNAME:AEDT
DTSTART:20261003T160000
END:DAYLIGHT
BEGIN:STANDARD
TZOFFSETFROM:+1100
TZOFFSETTO:+1000
TZNAME:AEST
DTSTART:20270403T160000
END:STANDARD
BEGIN:DAYLIGHT
TZOFFSETFROM:+1000
TZOFFSETTO:+1100
TZNAME:AEDT
DTSTART:20271002T160000
END:DAYLIGHT
END:VTIMEZONE
BEGIN:VEVENT
DTSTART;TZID=Australia/Melbourne:20260505T100000
DTEND;TZID=Australia/Melbourne:20260505T140000
DTSTAMP:20260421T204851
CREATED:20260215T024313Z
LAST-MODIFIED:20260324T052831Z
UID:1272-1777975200-1777989600@westernportquilters.org.au
SUMMARY:May Workshop - Kawandi
DESCRIPTION:Learn Kawandi quilting or Sit and Sew
URL:https://westernportquilters.org.au/event/may-workshop-kawandi/
LOCATION:Tyabb Hall\, 1535 Frankston-Flinders Road\, Tyabb\, Victoria\, 3913\, Australia
ATTACH;FMTTYPE=image/jpeg:https://westernportquilters.org.au/wp-content/uploads/2026/02/20260317_122414.jpg
END:VEVENT
BEGIN:VEVENT
DTSTART;TZID=Australia/Melbourne:20260509T100000
DTEND;TZID=Australia/Melbourne:20260509T140000
DTSTAMP:20260421T204851
CREATED:20260215T024731Z
LAST-MODIFIED:20260215T024735Z
UID:1274-1778320800-1778335200@westernportquilters.org.au
SUMMARY:May Sit and Sew
DESCRIPTION:
URL:https://westernportquilters.org.au/event/may-sit-and-sew/
LOCATION:Tyabb Hall\, 1535 Frankston-Flinders Road\, Tyabb\, Victoria\, 3913\, Australia
ATTACH;FMTTYPE=image/jpeg:https://westernportquilters.org.au/wp-content/uploads/2025/01/saturday.jpg
END:VEVENT
BEGIN:VEVENT
DTSTART;TZID=Australia/Melbourne:20260519T100000
DTEND;TZID=Australia/Melbourne:20260519T140000
DTSTAMP:20260421T204851
CREATED:20260215T025010Z
LAST-MODIFIED:20260418T064922Z
UID:1276-1779184800-1779199200@westernportquilters.org.au
SUMMARY:May General Meeting
DESCRIPTION:Biggest Morning tea – Guest Speaker Chris Such from Rotary
URL:https://westernportquilters.org.au/event/may-general-meeting/
LOCATION:Tyabb Hall\, 1535 Frankston-Flinders Road\, Tyabb\, Victoria\, 3913\, Australia
ATTACH;FMTTYPE=image/jpeg:https://westernportquilters.org.au/wp-content/uploads/2025/01/General.jpg
END:VEVENT
BEGIN:VEVENT
DTSTART;TZID=Australia/Melbourne:20260602T100000
DTEND;TZID=Australia/Melbourne:20260602T140000
DTSTAMP:20260421T204851
CREATED:20260215T025311Z
LAST-MODIFIED:20260215T025316Z
UID:1278-1780394400-1780408800@westernportquilters.org.au
SUMMARY:June Workshop - 1/2 Square Triangles
DESCRIPTION:Learn how to make 1/2 square triangles or Sit and Sew
URL:https://westernportquilters.org.au/event/june-workshop-1-2-square-triangles/
LOCATION:Tyabb Hall\, 1535 Frankston-Flinders Road\, Tyabb\, Victoria\, 3913\, Australia
ATTACH;FMTTYPE=image/jpeg:https://westernportquilters.org.au/wp-content/uploads/2025/01/workshop.jpg
END:VEVENT
BEGIN:VEVENT
DTSTART;TZID=Australia/Melbourne:20260613T100000
DTEND;TZID=Australia/Melbourne:20260613T140000
DTSTAMP:20260421T204851
CREATED:20260215T025625Z
LAST-MODIFIED:20260215T025629Z
UID:1282-1781344800-1781359200@westernportquilters.org.au
SUMMARY:June Saturday Sit and Sew
DESCRIPTION:
URL:https://westernportquilters.org.au/event/june-saturday-sit-and-sew/
LOCATION:Tyabb Hall\, 1535 Frankston-Flinders Road\, Tyabb\, Victoria\, 3913\, Australia
ATTACH;FMTTYPE=image/jpeg:https://westernportquilters.org.au/wp-content/uploads/2025/01/saturday.jpg
END:VEVENT
BEGIN:VEVENT
DTSTART;TZID=Australia/Melbourne:20260616T100000
DTEND;TZID=Australia/Melbourne:20260616T140000
DTSTAMP:20260421T204851
CREATED:20260215T025805Z
LAST-MODIFIED:20260421T074224Z
UID:1284-1781604000-1781618400@westernportquilters.org.au
SUMMARY:June General Meeting
DESCRIPTION:Guest Speaker – Kat from Craftaholickat
URL:https://westernportquilters.org.au/event/june-general-meeting/
LOCATION:Tyabb Hall\, 1535 Frankston-Flinders Road\, Tyabb\, Victoria\, 3913\, Australia
ATTACH;FMTTYPE=image/jpeg:https://westernportquilters.org.au/wp-content/uploads/2025/01/General.jpg
END:VEVENT
BEGIN:VEVENT
DTSTART;TZID=Australia/Melbourne:20260707T100000
DTEND;TZID=Australia/Melbourne:20260707T140000
DTSTAMP:20260421T204851
CREATED:20260215T030053Z
LAST-MODIFIED:20260215T030057Z
UID:1286-1783418400-1783432800@westernportquilters.org.au
SUMMARY:July Workshop - Christmas in July - Candle wreath
DESCRIPTION:Learn how to make a candle wreath or Sit and Sew
URL:https://westernportquilters.org.au/event/july-workshop-christmas-in-july-candle-wreath/
LOCATION:Tyabb Hall\, 1535 Frankston-Flinders Road\, Tyabb\, Victoria\, 3913\, Australia
ATTACH;FMTTYPE=image/jpeg:https://westernportquilters.org.au/wp-content/uploads/2025/01/workshop.jpg
END:VEVENT
BEGIN:VEVENT
DTSTART;TZID=Australia/Melbourne:20260711T100000
DTEND;TZID=Australia/Melbourne:20260711T140000
DTSTAMP:20260421T204851
CREATED:20260215T030248Z
LAST-MODIFIED:20260215T030256Z
UID:1288-1783764000-1783778400@westernportquilters.org.au
SUMMARY:July Saturday Sit and Sew
DESCRIPTION:
URL:https://westernportquilters.org.au/event/july-saturday-sit-and-sew/
LOCATION:Tyabb Hall\, 1535 Frankston-Flinders Road\, Tyabb\, Victoria\, 3913\, Australia
ATTACH;FMTTYPE=image/jpeg:https://westernportquilters.org.au/wp-content/uploads/2025/01/saturday.jpg
END:VEVENT
BEGIN:VEVENT
DTSTART;TZID=Australia/Melbourne:20260721T100000
DTEND;TZID=Australia/Melbourne:20260721T140000
DTSTAMP:20260421T204851
CREATED:20260215T030505Z
LAST-MODIFIED:20260418T065600Z
UID:1290-1784628000-1784642400@westernportquilters.org.au
SUMMARY:July General Meeting - Soup and Spud Day
DESCRIPTION:Guest Speaker Sam – Put your name down and pay $10 for a bowl of soup and a spud. BYO bowl\, plate and spoon.
URL:https://westernportquilters.org.au/event/july-general-meeting/
LOCATION:Tyabb Hall\, 1535 Frankston-Flinders Road\, Tyabb\, Victoria\, 3913\, Australia
ATTACH;FMTTYPE=image/jpeg:https://westernportquilters.org.au/wp-content/uploads/2025/01/General.jpg
END:VEVENT
BEGIN:VEVENT
DTSTART;TZID=Australia/Melbourne:20260804T100000
DTEND;TZID=Australia/Melbourne:20260804T140000
DTSTAMP:20260421T204851
CREATED:20260215T030958Z
LAST-MODIFIED:20260418T065448Z
UID:1294-1785837600-1785852000@westernportquilters.org.au
SUMMARY:August Sit and Sew
DESCRIPTION:Learn the Potato chip quilting technique
URL:https://westernportquilters.org.au/event/august-sit-and-sew/
LOCATION:Tyabb Hall\, 1535 Frankston-Flinders Road\, Tyabb\, Victoria\, 3913\, Australia
ATTACH;FMTTYPE=image/jpeg:https://westernportquilters.org.au/wp-content/uploads/2025/01/workshop.jpg
END:VEVENT
BEGIN:VEVENT
DTSTART;TZID=Australia/Melbourne:20260808T100000
DTEND;TZID=Australia/Melbourne:20260808T140000
DTSTAMP:20260421T204851
CREATED:20260215T031216Z
LAST-MODIFIED:20260215T031512Z
UID:1296-1786183200-1786197600@westernportquilters.org.au
SUMMARY:August Saturday Sit and Sew - Soup and Spud Day
DESCRIPTION:
URL:https://westernportquilters.org.au/event/august-saturday-sit-and-sew/
LOCATION:Tyabb Hall\, 1535 Frankston-Flinders Road\, Tyabb\, Victoria\, 3913\, Australia
ATTACH;FMTTYPE=image/jpeg:https://westernportquilters.org.au/wp-content/uploads/2025/01/saturday.jpg
END:VEVENT
BEGIN:VEVENT
DTSTART;TZID=Australia/Melbourne:20260818T100000
DTEND;TZID=Australia/Melbourne:20260818T140000
DTSTAMP:20260421T204851
CREATED:20260215T031358Z
LAST-MODIFIED:20260215T031403Z
UID:1298-1787047200-1787061600@westernportquilters.org.au
SUMMARY:August General Meeting
DESCRIPTION:
URL:https://westernportquilters.org.au/event/august-general-meeting/
LOCATION:Tyabb Hall\, 1535 Frankston-Flinders Road\, Tyabb\, Victoria\, 3913\, Australia
ATTACH;FMTTYPE=image/jpeg:https://westernportquilters.org.au/wp-content/uploads/2025/01/General.jpg
END:VEVENT
BEGIN:VEVENT
DTSTART;TZID=Australia/Melbourne:20260901T100000
DTEND;TZID=Australia/Melbourne:20260901T140000
DTSTAMP:20260421T204851
CREATED:20260215T031802Z
LAST-MODIFIED:20260418T065256Z
UID:1301-1788256800-1788271200@westernportquilters.org.au
SUMMARY:September Workshop - Potato Chip
DESCRIPTION:Brenda – How to be a stripper or Sit and Sew
URL:https://westernportquilters.org.au/event/september-workshop-potato-chip/
LOCATION:Tyabb Hall\, 1535 Frankston-Flinders Road\, Tyabb\, Victoria\, 3913\, Australia
ATTACH;FMTTYPE=image/jpeg:https://westernportquilters.org.au/wp-content/uploads/2025/01/workshop.jpg
END:VEVENT
BEGIN:VEVENT
DTSTART;TZID=Australia/Melbourne:20260912T100000
DTEND;TZID=Australia/Melbourne:20260912T140000
DTSTAMP:20260421T204851
CREATED:20260215T031950Z
LAST-MODIFIED:20260215T031956Z
UID:1303-1789207200-1789221600@westernportquilters.org.au
SUMMARY:September Saturday Sit and Sew
DESCRIPTION:
URL:https://westernportquilters.org.au/event/september-saturday-sit-and-sew/
LOCATION:Tyabb Hall\, 1535 Frankston-Flinders Road\, Tyabb\, Victoria\, 3913\, Australia
ATTACH;FMTTYPE=image/jpeg:https://westernportquilters.org.au/wp-content/uploads/2025/01/saturday.jpg
END:VEVENT
BEGIN:VEVENT
DTSTART;TZID=Australia/Melbourne:20261010T090000
DTEND;TZID=Australia/Melbourne:20261010T150000
DTSTAMP:20260421T204851
CREATED:20260418T065902Z
LAST-MODIFIED:20260418T065906Z
UID:1364-1791622800-1791644400@westernportquilters.org.au
SUMMARY:October Saturday Workshop and Sit and Sew
DESCRIPTION:Workshop with Irene Blanck
URL:https://westernportquilters.org.au/event/october-saturday-workshop-and-sit-and-sew/
LOCATION:Tyabb Hall\, 1535 Frankston-Flinders Road\, Tyabb\, Victoria\, 3913\, Australia
ATTACH;FMTTYPE=image/jpeg:https://westernportquilters.org.au/wp-content/uploads/2025/01/workshop-1.jpg
END:VEVENT
END:VCALENDAR