BEGIN:VCALENDAR
VERSION:2.0
PRODID:-//Westernport Quilters Inc. - ECPv6.15.16//NONSGML v1.0//EN
CALSCALE:GREGORIAN
METHOD:PUBLISH
X-WR-CALNAME:Westernport Quilters Inc.
X-ORIGINAL-URL:https://westernportquilters.org.au
X-WR-CALDESC:Events for Westernport Quilters Inc.
REFRESH-INTERVAL;VALUE=DURATION:PT1H
X-Robots-Tag:noindex
X-PUBLISHED-TTL:PT1H
BEGIN:VTIMEZONE
TZID:Australia/Melbourne
BEGIN:STANDARD
TZOFFSETFROM:+1100
TZOFFSETTO:+1000
TZNAME:AEST
DTSTART:20250405T160000
END:STANDARD
BEGIN:DAYLIGHT
TZOFFSETFROM:+1000
TZOFFSETTO:+1100
TZNAME:AEDT
DTSTART:20251004T160000
END:DAYLIGHT
BEGIN:STANDARD
TZOFFSETFROM:+1100
TZOFFSETTO:+1000
TZNAME:AEST
DTSTART:20260404T160000
END:STANDARD
BEGIN:DAYLIGHT
TZOFFSETFROM:+1000
TZOFFSETTO:+1100
TZNAME:AEDT
DTSTART:20261003T160000
END:DAYLIGHT
BEGIN:STANDARD
TZOFFSETFROM:+1100
TZOFFSETTO:+1000
TZNAME:AEST
DTSTART:20270403T160000
END:STANDARD
BEGIN:DAYLIGHT
TZOFFSETFROM:+1000
TZOFFSETTO:+1100
TZNAME:AEDT
DTSTART:20271002T160000
END:DAYLIGHT
END:VTIMEZONE
BEGIN:VEVENT
DTSTART;TZID=Australia/Melbourne:20260519T100000
DTEND;TZID=Australia/Melbourne:20260519T140000
DTSTAMP:20260424T070719
CREATED:20260215T025010Z
LAST-MODIFIED:20260418T064922Z
UID:1276-1779184800-1779199200@westernportquilters.org.au
SUMMARY:May General Meeting
DESCRIPTION:Biggest Morning tea – Guest Speaker Chris Such from Rotary
URL:https://westernportquilters.org.au/event/may-general-meeting/
LOCATION:Tyabb Hall\, 1535 Frankston-Flinders Road\, Tyabb\, Victoria\, 3913\, Australia
ATTACH;FMTTYPE=image/jpeg:https://westernportquilters.org.au/wp-content/uploads/2025/01/General.jpg
END:VEVENT
BEGIN:VEVENT
DTSTART;TZID=Australia/Melbourne:20260509T100000
DTEND;TZID=Australia/Melbourne:20260509T140000
DTSTAMP:20260424T070719
CREATED:20260215T024731Z
LAST-MODIFIED:20260215T024735Z
UID:1274-1778320800-1778335200@westernportquilters.org.au
SUMMARY:May Sit and Sew
DESCRIPTION:
URL:https://westernportquilters.org.au/event/may-sit-and-sew/
LOCATION:Tyabb Hall\, 1535 Frankston-Flinders Road\, Tyabb\, Victoria\, 3913\, Australia
ATTACH;FMTTYPE=image/jpeg:https://westernportquilters.org.au/wp-content/uploads/2025/01/saturday.jpg
END:VEVENT
BEGIN:VEVENT
DTSTART;TZID=Australia/Melbourne:20260505T100000
DTEND;TZID=Australia/Melbourne:20260505T140000
DTSTAMP:20260424T070719
CREATED:20260215T024313Z
LAST-MODIFIED:20260324T052831Z
UID:1272-1777975200-1777989600@westernportquilters.org.au
SUMMARY:May Workshop - Kawandi
DESCRIPTION:Learn Kawandi quilting or Sit and Sew
URL:https://westernportquilters.org.au/event/may-workshop-kawandi/
LOCATION:Tyabb Hall\, 1535 Frankston-Flinders Road\, Tyabb\, Victoria\, 3913\, Australia
ATTACH;FMTTYPE=image/jpeg:https://westernportquilters.org.au/wp-content/uploads/2026/02/20260317_122414.jpg
END:VEVENT
BEGIN:VEVENT
DTSTART;TZID=Australia/Melbourne:20260421T100000
DTEND;TZID=Australia/Melbourne:20260421T140000
DTSTAMP:20260424T070719
CREATED:20251215T043140Z
LAST-MODIFIED:20260421T074106Z
UID:1212-1776765600-1776780000@westernportquilters.org.au
SUMMARY:April General Meeting
DESCRIPTION:Guest Speaker – Peta McGinley from Paynesville Creative Retreat
URL:https://westernportquilters.org.au/event/april-general-meeting/
LOCATION:Tyabb Hall\, 1535 Frankston-Flinders Road\, Tyabb\, Victoria\, 3913\, Australia
ATTACH;FMTTYPE=image/jpeg:https://westernportquilters.org.au/wp-content/uploads/2025/01/General.jpg
END:VEVENT
BEGIN:VEVENT
DTSTART;TZID=Australia/Melbourne:20260411T100000
DTEND;TZID=Australia/Melbourne:20260411T140000
DTSTAMP:20260424T070719
CREATED:20251215T045120Z
LAST-MODIFIED:20251215T045125Z
UID:1227-1775901600-1775916000@westernportquilters.org.au
SUMMARY:April Saturday Sit and Sew
DESCRIPTION:
URL:https://westernportquilters.org.au/event/april-saturday-sit-and-sew/
LOCATION:Tyabb Hall\, 1535 Frankston-Flinders Road\, Tyabb\, Victoria\, 3913\, Australia
ATTACH;FMTTYPE=image/jpeg:https://westernportquilters.org.au/wp-content/uploads/2025/01/saturday.jpg
END:VEVENT
BEGIN:VEVENT
DTSTART;TZID=Australia/Melbourne:20260407T100000
DTEND;TZID=Australia/Melbourne:20260407T140000
DTSTAMP:20260424T070719
CREATED:20251215T044448Z
LAST-MODIFIED:20260324T053020Z
UID:1224-1775556000-1775570400@westernportquilters.org.au
SUMMARY:April Workshop - Crochet
DESCRIPTION:Learn how to Crochet or come and Sit and Sew
URL:https://westernportquilters.org.au/event/april-workshop-crochet/
LOCATION:Tyabb Hall\, 1535 Frankston-Flinders Road\, Tyabb\, Victoria\, 3913\, Australia
ATTACH;FMTTYPE=image/jpeg:https://westernportquilters.org.au/wp-content/uploads/2025/12/20260317_122426-1.jpg
END:VEVENT
BEGIN:VEVENT
DTSTART;TZID=Australia/Melbourne:20260317T100000
DTEND;TZID=Australia/Melbourne:20260317T140000
DTSTAMP:20260424T070719
CREATED:20251215T042654Z
LAST-MODIFIED:20260215T023738Z
UID:1207-1773741600-1773756000@westernportquilters.org.au
SUMMARY:March General Meeting
DESCRIPTION:Guest Speaker – Marie Lee – Very Snuggly Quilts
URL:https://westernportquilters.org.au/event/march-general-meeting/
LOCATION:Tyabb Hall\, 1535 Frankston-Flinders Road\, Tyabb\, Victoria\, 3913\, Australia
ATTACH;FMTTYPE=image/jpeg:https://westernportquilters.org.au/wp-content/uploads/2025/01/General.jpg
END:VEVENT
BEGIN:VEVENT
DTSTART;TZID=Australia/Melbourne:20260314T100000
DTEND;TZID=Australia/Melbourne:20260314T140000
DTSTAMP:20260424T070719
CREATED:20251215T044225Z
LAST-MODIFIED:20251215T044231Z
UID:1221-1773482400-1773496800@westernportquilters.org.au
SUMMARY:March Saturday Sit and Sew
DESCRIPTION:
URL:https://westernportquilters.org.au/event/march-saturday-sit-and-sew/
LOCATION:Tyabb Hall\, 1535 Frankston-Flinders Road\, Tyabb\, Victoria\, 3913\, Australia
ATTACH;FMTTYPE=image/jpeg:https://westernportquilters.org.au/wp-content/uploads/2025/01/saturday.jpg
END:VEVENT
BEGIN:VEVENT
DTSTART;TZID=Australia/Melbourne:20260303T100000
DTEND;TZID=Australia/Melbourne:20260303T140000
DTSTAMP:20260424T070719
CREATED:20251215T044040Z
LAST-MODIFIED:20251215T044047Z
UID:1219-1772532000-1772546400@westernportquilters.org.au
SUMMARY:March Workshop - Easy hexagons
DESCRIPTION:Learn how to make easy hexagons or come and Sit and Sew
URL:https://westernportquilters.org.au/event/march-workshop-easy-hexagons/
LOCATION:Tyabb Hall\, 1535 Frankston-Flinders Road\, Tyabb\, Victoria\, 3913\, Australia
ATTACH;FMTTYPE=image/jpeg:https://westernportquilters.org.au/wp-content/uploads/2025/01/workshop.jpg
END:VEVENT
BEGIN:VEVENT
DTSTART;TZID=Australia/Melbourne:20260217T100000
DTEND;TZID=Australia/Melbourne:20260217T140000
DTSTAMP:20260424T070719
CREATED:20251215T042451Z
LAST-MODIFIED:20260215T023547Z
UID:1205-1771322400-1771336800@westernportquilters.org.au
SUMMARY:February General Meeting
DESCRIPTION:Guest Speaker – Rick Wise – Sewing machine repairman
URL:https://westernportquilters.org.au/event/february-general-meeting/
LOCATION:Tyabb Hall\, 1535 Frankston-Flinders Road\, Tyabb\, Victoria\, 3913\, Australia
ATTACH;FMTTYPE=image/jpeg:https://westernportquilters.org.au/wp-content/uploads/2025/01/General.jpg
END:VEVENT
BEGIN:VEVENT
DTSTART;TZID=Australia/Melbourne:20260214T100000
DTEND;TZID=Australia/Melbourne:20260214T140000
DTSTAMP:20260424T070719
CREATED:20251215T043740Z
LAST-MODIFIED:20251215T043746Z
UID:1217-1771063200-1771077600@westernportquilters.org.au
SUMMARY:February Saturday Sit and Sew
DESCRIPTION:
URL:https://westernportquilters.org.au/event/february-saturday-sit-and-sew/
LOCATION:Tyabb Hall\, 1535 Frankston-Flinders Road\, Tyabb\, Victoria\, 3913\, Australia
ATTACH;FMTTYPE=image/jpeg:https://westernportquilters.org.au/wp-content/uploads/2025/01/saturday.jpg
END:VEVENT
BEGIN:VEVENT
DTSTART;TZID=Australia/Melbourne:20260203T100000
DTEND;TZID=Australia/Melbourne:20260203T140000
DTSTAMP:20260424T070719
CREATED:20251215T043426Z
LAST-MODIFIED:20251215T043518Z
UID:1214-1770112800-1770127200@westernportquilters.org.au
SUMMARY:February Workshop - Fabric Sun Dyeing
DESCRIPTION:Fabric Sun Dyeing with Jenny and Sit and Sew
URL:https://westernportquilters.org.au/event/february-workshop-sun-dyeing/
LOCATION:Tyabb Hall\, 1535 Frankston-Flinders Road\, Tyabb\, Victoria\, 3913\, Australia
ATTACH;FMTTYPE=image/jpeg:https://westernportquilters.org.au/wp-content/uploads/2025/01/workshop.jpg
END:VEVENT
END:VCALENDAR