BEGIN:VCALENDAR
VERSION:2.0
PRODID:-//Westernport Quilters Inc. - ECPv6.15.16//NONSGML v1.0//EN
CALSCALE:GREGORIAN
METHOD:PUBLISH
X-WR-CALNAME:Westernport Quilters Inc.
X-ORIGINAL-URL:https://westernportquilters.org.au
X-WR-CALDESC:Events for Westernport Quilters Inc.
REFRESH-INTERVAL;VALUE=DURATION:PT1H
X-Robots-Tag:noindex
X-PUBLISHED-TTL:PT1H
BEGIN:VTIMEZONE
TZID:Australia/Melbourne
BEGIN:STANDARD
TZOFFSETFROM:+1100
TZOFFSETTO:+1000
TZNAME:AEST
DTSTART:20250405T160000
END:STANDARD
BEGIN:DAYLIGHT
TZOFFSETFROM:+1000
TZOFFSETTO:+1100
TZNAME:AEDT
DTSTART:20251004T160000
END:DAYLIGHT
BEGIN:STANDARD
TZOFFSETFROM:+1100
TZOFFSETTO:+1000
TZNAME:AEST
DTSTART:20260404T160000
END:STANDARD
BEGIN:DAYLIGHT
TZOFFSETFROM:+1000
TZOFFSETTO:+1100
TZNAME:AEDT
DTSTART:20261003T160000
END:DAYLIGHT
BEGIN:STANDARD
TZOFFSETFROM:+1100
TZOFFSETTO:+1000
TZNAME:AEST
DTSTART:20270403T160000
END:STANDARD
BEGIN:DAYLIGHT
TZOFFSETFROM:+1000
TZOFFSETTO:+1100
TZNAME:AEDT
DTSTART:20271002T160000
END:DAYLIGHT
END:VTIMEZONE
BEGIN:VEVENT
DTSTART;TZID=Australia/Melbourne:20260203T100000
DTEND;TZID=Australia/Melbourne:20260203T140000
DTSTAMP:20260424T083336
CREATED:20251215T043426Z
LAST-MODIFIED:20251215T043518Z
UID:1214-1770112800-1770127200@westernportquilters.org.au
SUMMARY:February Workshop - Fabric Sun Dyeing
DESCRIPTION:Fabric Sun Dyeing with Jenny and Sit and Sew
URL:https://westernportquilters.org.au/event/february-workshop-sun-dyeing/
LOCATION:Tyabb Hall\, 1535 Frankston-Flinders Road\, Tyabb\, Victoria\, 3913\, Australia
ATTACH;FMTTYPE=image/jpeg:https://westernportquilters.org.au/wp-content/uploads/2025/01/workshop.jpg
END:VEVENT
END:VCALENDAR