BEGIN:VCALENDAR
VERSION:2.0
PRODID:-//Westernport Quilters Inc. - ECPv6.15.16//NONSGML v1.0//EN
CALSCALE:GREGORIAN
METHOD:PUBLISH
X-WR-CALNAME:Westernport Quilters Inc.
X-ORIGINAL-URL:https://westernportquilters.org.au
X-WR-CALDESC:Events for Westernport Quilters Inc.
REFRESH-INTERVAL;VALUE=DURATION:PT1H
X-Robots-Tag:noindex
X-PUBLISHED-TTL:PT1H
BEGIN:VTIMEZONE
TZID:Australia/Melbourne
BEGIN:STANDARD
TZOFFSETFROM:+1100
TZOFFSETTO:+1000
TZNAME:AEST
DTSTART:20250405T160000
END:STANDARD
BEGIN:DAYLIGHT
TZOFFSETFROM:+1000
TZOFFSETTO:+1100
TZNAME:AEDT
DTSTART:20251004T160000
END:DAYLIGHT
BEGIN:STANDARD
TZOFFSETFROM:+1100
TZOFFSETTO:+1000
TZNAME:AEST
DTSTART:20260404T160000
END:STANDARD
BEGIN:DAYLIGHT
TZOFFSETFROM:+1000
TZOFFSETTO:+1100
TZNAME:AEDT
DTSTART:20261003T160000
END:DAYLIGHT
BEGIN:STANDARD
TZOFFSETFROM:+1100
TZOFFSETTO:+1000
TZNAME:AEST
DTSTART:20270403T160000
END:STANDARD
BEGIN:DAYLIGHT
TZOFFSETFROM:+1000
TZOFFSETTO:+1100
TZNAME:AEDT
DTSTART:20271002T160000
END:DAYLIGHT
END:VTIMEZONE
BEGIN:VEVENT
DTSTART;TZID=Australia/Melbourne:20261010T090000
DTEND;TZID=Australia/Melbourne:20261010T150000
DTSTAMP:20260424T070830
CREATED:20260418T065902Z
LAST-MODIFIED:20260418T065906Z
UID:1364-1791622800-1791644400@westernportquilters.org.au
SUMMARY:October Saturday Workshop and Sit and Sew
DESCRIPTION:Workshop with Irene Blanck
URL:https://westernportquilters.org.au/event/october-saturday-workshop-and-sit-and-sew/
LOCATION:Tyabb Hall\, 1535 Frankston-Flinders Road\, Tyabb\, Victoria\, 3913\, Australia
ATTACH;FMTTYPE=image/jpeg:https://westernportquilters.org.au/wp-content/uploads/2025/01/workshop-1.jpg
END:VEVENT
END:VCALENDAR